BEGIN:VCALENDAR
VERSION:2.0
PRODID:-//wp-events-plugin.com//7.2.3.1//EN
BEGIN:VEVENT
UID:32@abridespossibles.fr
DTSTART;TZID=Europe/Paris:20260508T193000
DTEND;TZID=Europe/Paris:20260508T220000
DTSTAMP:20260416T142714Z
URL:https://abridespossibles.fr/events/karaoke-party-2/
SUMMARY:Karaoké Party
DESCRIPTION:\n\n&nbsp\;\nInfos &amp\; inscriptions : 06 40 63 62 28\nSoiré
 e Karaoké &amp\; Blind Test !\nVous êtes invités à une soirée convivi
 ale et pleine de bonne humeur avec karaoké\, blind test et un bar avec se
 rvice de boissons à prix libre !\n&nbsp\;\n\n&nbsp\;\n\n&nbsp\;\n\n&nbsp\
 ;\nLe grignotage est partagé : chacun apporte un petit quelque chose à m
 anger\, et tout est mis en commun pour profiter ensemble de ce moment chal
 eureux.\nQue vous veniez pour chanter\, jouer\, rire ou simplement passer 
 un bon moment\, l’essentiel est d’être là et de partager cette soir
 ée tous ensemble\n&nbsp\;\n\n&nbsp\;\n\n&nbsp\;\nVenez comme vous êtes\,
  sans pression\, juste pour profiter et vous amuser ! ️\nÉvénement pr
 évu tous les deuxièmes vendredis du mois jusqu'au 10/07.
ATTACH;FMTTYPE=image/jpeg:https://abridespossibles.fr/wp-content/uploads/2
 026/02/Copie-de-A4-Karaoke-Party-270-x-155-px_20260106_164722_0000.png
END:VEVENT
BEGIN:VTIMEZONE
TZID:Europe/Paris
X-LIC-LOCATION:Europe/Paris
BEGIN:DAYLIGHT
DTSTART:20260329T030000
TZOFFSETFROM:+0100
TZOFFSETTO:+0200
TZNAME:CEST
END:DAYLIGHT
END:VTIMEZONE
END:VCALENDAR